BEGIN:VCALENDAR
VERSION:2.0
PRODID:-//wp-events-plugin.com//6.4.6.4//EN
BEGIN:VEVENT
UID:47@donationstationfunding.com
DTSTART;TZID=America/Nassau:20241121T060300
DTEND;TZID=America/Nassau:20251125T060300
DTSTAMP:20241126T062552Z
URL:https://www.donationstationfunding.com/events/junior-achievement-baham
 as/
SUMMARY:Junior Achievement Bahamas
DESCRIPTION:1. Junior Achievement Bahamas\n\n2. Junior Achievement Alumni\n
 \nMake Donation 
ATTACH;FMTTYPE=image/jpeg:https://www.donationstationfunding.com/wp-conten
 t/uploads/2024/11/jabahamas.webp
END:VEVENT
BEGIN:VTIMEZONE
TZID:America/Nassau
X-LIC-LOCATION:America/Nassau
BEGIN:STANDARD
DTSTART:20241103T010000
TZOFFSETFROM:-0400
TZOFFSETTO:-0500
TZNAME:EST
END:STANDARD
BEGIN:DAYLIGHT
DTSTART:20250309T030000
TZOFFSETFROM:-0500
TZOFFSETTO:-0400
TZNAME:EDT
END:DAYLIGHT
BEGIN:STANDARD
DTSTART:20251102T010000
TZOFFSETFROM:-0400
TZOFFSETTO:-0500
TZNAME:EST
END:STANDARD
END:VTIMEZONE
END:VCALENDAR