BEGIN:VCALENDAR
VERSION:2.0
PRODID:-//wp-events-plugin.com//6.4.6.4//EN
BEGIN:VEVENT
UID:48@donationstationfunding.com
DTSTART;TZID=America/Nassau:20250729T110000
DTEND;TZID=America/Nassau:20260729T110000
DTSTAMP:20250729T125930Z
URL:https://www.donationstationfunding.com/events/bahamas-sportfishing-con
 servation-corporation/
SUMMARY:Bahamas Sportfishing & Conservation Corporation
DESCRIPTION:The Bahamas Sportfishing and Conservation Association (BSCA) is
  helping to grow the resilience of people and nature in The Bahamas by bui
 lding capacity for community-based conservation and implementing solutions
  that increase the well-being of communities\, strengthen ocean-based live
 lihoods\, and restore essential marine ecosystems.\n\nMake Donation 
ATTACH;FMTTYPE=image/jpeg:https://www.donationstationfunding.com/wp-conten
 t/uploads/2025/07/donation.jpg
END:VEVENT
BEGIN:VTIMEZONE
TZID:America/Nassau
X-LIC-LOCATION:America/Nassau
BEGIN:DAYLIGHT
DTSTART:20250309T030000
TZOFFSETFROM:-0500
TZOFFSETTO:-0400
TZNAME:EDT
END:DAYLIGHT
BEGIN:STANDARD
DTSTART:20251102T010000
TZOFFSETFROM:-0400
TZOFFSETTO:-0500
TZNAME:EST
END:STANDARD
BEGIN:DAYLIGHT
DTSTART:20260308T030000
TZOFFSETFROM:-0500
TZOFFSETTO:-0400
TZNAME:EDT
END:DAYLIGHT
END:VTIMEZONE
END:VCALENDAR